Package: TSCAN Version: 1.44.0 Command: rm -rf TSCAN.buildbin-libdir && mkdir TSCAN.buildbin-libdir && /Users/biocbuild/BBS/utils/build-universal.sh TSCAN_1.44.0.tar.gz /Library/Frameworks/R.framework/Resources/bin/R TSCAN.buildbin-libdir StartedAt: 2025-02-01 17:16:36 -0500 (Sat, 01 Feb 2025) EndedAt: 2025-02-01 17:17:09 -0500 (Sat, 01 Feb 2025) EllapsedTime: 33.3 seconds RetCode: 0 Status: OK PackageFile: TSCAN_1.44.0.tgz PackageFileSize: 2.759 MiB