Package: TSCAN Version: 1.44.0 Command: /Library/Frameworks/R.framework/Resources/bin/R CMD build --keep-empty-dirs --no-resave-data TSCAN StartedAt: 2025-01-31 09:51:38 -0500 (Fri, 31 Jan 2025) EndedAt: 2025-01-31 09:52:24 -0500 (Fri, 31 Jan 2025) EllapsedTime: 45.7 seconds RetCode: 0 Status: OK PackageFile: TSCAN_1.44.0.tar.gz PackageFileSize: 2.677 MiB