Package: TSCAN Version: 1.44.0 Command: /Library/Frameworks/R.framework/Resources/bin/R CMD build --keep-empty-dirs --no-resave-data TSCAN StartedAt: 2025-01-30 23:33:56 -0500 (Thu, 30 Jan 2025) EndedAt: 2025-01-30 23:35:40 -0500 (Thu, 30 Jan 2025) EllapsedTime: 103.9 seconds RetCode: 0 Status: OK PackageFile: TSCAN_1.44.0.tar.gz PackageFileSize: 2.677 MiB