Package: TSCAN Version: 1.44.0 Command: /home/biocbuild/bbs-3.20-bioc/R/bin/R CMD check --install=check:TSCAN.install-out.txt --library=/home/biocbuild/bbs-3.20-bioc/R/site-library --timings TSCAN_1.44.0.tar.gz StartedAt: 2025-01-31 03:14:06 -0500 (Fri, 31 Jan 2025) EndedAt: 2025-01-31 03:17:44 -0500 (Fri, 31 Jan 2025) EllapsedTime: 218.3 seconds RetCode: 0 Status: OK CheckDir: TSCAN.Rcheck Warnings: 0