Package: TSCAN Version: 1.44.0 Command: rm -rf TSCAN.buildbin-libdir && mkdir TSCAN.buildbin-libdir && F:\biocbuild\bbs-3.20-bioc\R\bin\R.exe CMD INSTALL --build --library=TSCAN.buildbin-libdir TSCAN_1.44.0.tar.gz StartedAt: 2025-01-31 09:49:48 -0500 (Fri, 31 Jan 2025) EndedAt: 2025-01-31 09:50:26 -0500 (Fri, 31 Jan 2025) EllapsedTime: 37.5 seconds RetCode: 0 Status: OK PackageFile: TSCAN_1.44.0.zip PackageFileSize: 2.765 MiB