Package: TSCAN Version: 1.44.0 Command: /home/biocbuild/R/R/bin/R CMD build --keep-empty-dirs --no-resave-data TSCAN StartedAt: 2025-01-31 03:19:03 -0000 (Fri, 31 Jan 2025) EndedAt: 2025-01-31 03:19:55 -0000 (Fri, 31 Jan 2025) EllapsedTime: 52.1 seconds RetCode: 0 Status: OK PackageFile: TSCAN_1.44.0.tar.gz PackageFileSize: 2.674 MiB