Package: TSCAN Version: 1.44.0 Command: /home/biocbuild/R/R/bin/R CMD INSTALL TSCAN StartedAt: 2025-01-30 20:40:26 -0000 (Thu, 30 Jan 2025) EndedAt: 2025-01-30 20:40:56 -0000 (Thu, 30 Jan 2025) EllapsedTime: 29.9 seconds RetCode: 0 Status: OK