Package: TVTB Version: 1.32.0 Command: rm -rf TVTB.buildbin-libdir && mkdir TVTB.buildbin-libdir && /Users/biocbuild/BBS/utils/build-universal.sh TVTB_1.32.0.tar.gz /Library/Frameworks/R.framework/Resources/bin/R TVTB.buildbin-libdir StartedAt: 2025-02-05 18:12:13 -0500 (Wed, 05 Feb 2025) EndedAt: 2025-02-05 18:13:26 -0500 (Wed, 05 Feb 2025) EllapsedTime: 72.6 seconds RetCode: 0 Status: OK PackageFile: TVTB_1.32.0.tgz PackageFileSize: 2.749 MiB