Package: TVTB Version: 1.32.0 Command: /Library/Frameworks/R.framework/Resources/bin/R CMD build --keep-empty-dirs --no-resave-data TVTB StartedAt: 2025-01-31 09:52:29 -0500 (Fri, 31 Jan 2025) EndedAt: 2025-01-31 09:54:35 -0500 (Fri, 31 Jan 2025) EllapsedTime: 125.4 seconds RetCode: 0 Status: OK PackageFile: TVTB_1.32.0.tar.gz PackageFileSize: 1.449 MiB