Package: TVTB Version: 1.32.0 Command: /Library/Frameworks/R.framework/Resources/bin/R CMD check --install=check:TVTB.install-out.txt --library=/Library/Frameworks/R.framework/Resources/library --no-vignettes --timings TVTB_1.32.0.tar.gz StartedAt: 2025-02-01 12:43:57 -0500 (Sat, 01 Feb 2025) EndedAt: 2025-02-01 12:51:52 -0500 (Sat, 01 Feb 2025) EllapsedTime: 475.4 seconds RetCode: 0 Status: OK CheckDir: TVTB.Rcheck Warnings: 0