Package: TVTB Version: 1.32.0 Command: /home/biocbuild/R/R/bin/R CMD check --install=check:TVTB.install-out.txt --library=/home/biocbuild/R/R/site-library --no-vignettes --timings TVTB_1.32.0.tar.gz StartedAt: 2024-11-20 13:32:44 -0000 (Wed, 20 Nov 2024) EndedAt: 2024-11-20 13:41:30 -0000 (Wed, 20 Nov 2024) EllapsedTime: 526.0 seconds RetCode: 0 Status: OK CheckDir: TVTB.Rcheck Warnings: 0