Package: TVTB Version: 1.32.0 Command: rm -rf TVTB.buildbin-libdir && mkdir TVTB.buildbin-libdir && /Users/biocbuild/BBS/utils/build-universal.sh TVTB_1.32.0.tar.gz /Library/Frameworks/R.framework/Resources/bin/R TVTB.buildbin-libdir StartedAt: 2025-01-31 13:53:53 -0500 (Fri, 31 Jan 2025) EndedAt: 2025-01-31 13:56:03 -0500 (Fri, 31 Jan 2025) EllapsedTime: 130.3 seconds RetCode: 0 Status: OK PackageFile: TVTB_1.32.0.tgz PackageFileSize: 2.749 MiB