Package: TVTB Version: 1.32.0 Command: /Library/Frameworks/R.framework/Resources/bin/R CMD INSTALL TVTB StartedAt: 2025-02-03 16:07:40 -0500 (Mon, 03 Feb 2025) EndedAt: 2025-02-03 16:09:41 -0500 (Mon, 03 Feb 2025) EllapsedTime: 121.7 seconds RetCode: 0 Status: OK