Package: TVTB Version: 1.32.0 Command: /home/biocbuild/bbs-3.20-bioc/R/bin/R CMD INSTALL TVTB StartedAt: 2025-02-03 15:43:46 -0500 (Mon, 03 Feb 2025) EndedAt: 2025-02-03 15:44:50 -0500 (Mon, 03 Feb 2025) EllapsedTime: 64.1 seconds RetCode: 0 Status: OK