Package: TVTB Version: 1.32.0 Command: /home/biocbuild/R/R/bin/R CMD check --install=check:TVTB.install-out.txt --library=/home/biocbuild/R/R/site-library --no-vignettes --timings TVTB_1.32.0.tar.gz StartedAt: 2025-02-04 11:58:40 -0000 (Tue, 04 Feb 2025) EndedAt: 2025-02-04 12:06:39 -0000 (Tue, 04 Feb 2025) EllapsedTime: 478.9 seconds RetCode: 0 Status: OK CheckDir: TVTB.Rcheck Warnings: 0