Package: TVTB Version: 1.32.0 Command: /home/biocbuild/R/R/bin/R CMD INSTALL TVTB StartedAt: 2025-02-03 20:58:17 -0000 (Mon, 03 Feb 2025) EndedAt: 2025-02-03 20:59:31 -0000 (Mon, 03 Feb 2025) EllapsedTime: 74.0 seconds RetCode: 0 Status: OK