Package: TargetSearch Version: 2.8.0 Command: /Library/Frameworks/R.framework/Resources/bin/R CMD build --keep-empty-dirs --no-resave-data TargetSearch StartedAt: 2025-02-04 09:35:23 -0500 (Tue, 04 Feb 2025) EndedAt: 2025-02-04 09:36:15 -0500 (Tue, 04 Feb 2025) EllapsedTime: 52.4 seconds RetCode: 0 Status: OK PackageFile: TargetSearch_2.8.0.tar.gz PackageFileSize: 717.6 KiB