Package: TargetSearch Version: 2.8.0 Command: /Library/Frameworks/R.framework/Resources/bin/R CMD build --keep-empty-dirs --no-resave-data TargetSearch StartedAt: 2025-02-03 22:50:48 -0500 (Mon, 03 Feb 2025) EndedAt: 2025-02-03 22:52:14 -0500 (Mon, 03 Feb 2025) EllapsedTime: 86.1 seconds RetCode: 0 Status: OK PackageFile: TargetSearch_2.8.0.tar.gz PackageFileSize: 717.5 KiB