Package: TargetSearch Version: 2.8.0 Command: F:\biocbuild\bbs-3.20-bioc\R\bin\R.exe CMD check --no-multiarch --install=check:TargetSearch.install-out.txt --library=F:\biocbuild\bbs-3.20-bioc\R\library --no-vignettes --timings TargetSearch_2.8.0.tar.gz StartedAt: 2025-01-31 07:09:18 -0500 (Fri, 31 Jan 2025) EndedAt: 2025-01-31 07:11:09 -0500 (Fri, 31 Jan 2025) EllapsedTime: 110.5 seconds RetCode: 0 Status: OK CheckDir: TargetSearch.Rcheck Warnings: 0