Package: TargetSearch Version: 2.8.0 Command: /home/biocbuild/R/R/bin/R CMD build --keep-empty-dirs --no-resave-data TargetSearch StartedAt: 2025-02-04 03:28:17 -0000 (Tue, 04 Feb 2025) EndedAt: 2025-02-04 03:29:00 -0000 (Tue, 04 Feb 2025) EllapsedTime: 43.0 seconds RetCode: 0 Status: OK PackageFile: TargetSearch_2.8.0.tar.gz PackageFileSize: 699.5 KiB