Package: TargetSearch Version: 2.8.0 Command: /home/biocbuild/R/R/bin/R CMD check --install=check:TargetSearch.install-out.txt --library=/home/biocbuild/R/R/site-library --no-vignettes --timings TargetSearch_2.8.0.tar.gz StartedAt: 2025-01-31 10:58:20 -0000 (Fri, 31 Jan 2025) EndedAt: 2025-01-31 10:59:26 -0000 (Fri, 31 Jan 2025) EllapsedTime: 66.1 seconds RetCode: 0 Status: OK CheckDir: TargetSearch.Rcheck Warnings: 0