Package: TileDBArray Version: 1.16.0 Command: rm -rf TileDBArray.buildbin-libdir && mkdir TileDBArray.buildbin-libdir && /Users/biocbuild/BBS/utils/build-universal.sh TileDBArray_1.16.0.tar.gz /Library/Frameworks/R.framework/Resources/bin/R TileDBArray.buildbin-libdir StartedAt: 2025-02-01 17:12:06 -0500 (Sat, 01 Feb 2025) EndedAt: 2025-02-01 17:12:33 -0500 (Sat, 01 Feb 2025) EllapsedTime: 27.1 seconds RetCode: 0 Status: OK PackageFile: TileDBArray_1.16.0.tgz PackageFileSize: 712.6 KiB