Package: TissueEnrich Version: 1.26.0 Command: /Library/Frameworks/R.framework/Resources/bin/R CMD build --keep-empty-dirs --no-resave-data TissueEnrich StartedAt: 2025-02-04 09:46:48 -0500 (Tue, 04 Feb 2025) EndedAt: 2025-02-04 09:47:48 -0500 (Tue, 04 Feb 2025) EllapsedTime: 59.7 seconds RetCode: 0 Status: OK PackageFile: TissueEnrich_1.26.0.tar.gz PackageFileSize: 3.607 MiB