Package: TissueEnrich Version: 1.26.0 Command: /Library/Frameworks/R.framework/Resources/bin/R CMD check --install=check:TissueEnrich.install-out.txt --library=/Library/Frameworks/R.framework/Resources/library --no-vignettes --timings TissueEnrich_1.26.0.tar.gz StartedAt: 2025-02-05 12:57:39 -0500 (Wed, 05 Feb 2025) EndedAt: 2025-02-05 13:01:46 -0500 (Wed, 05 Feb 2025) EllapsedTime: 246.9 seconds RetCode: 0 Status: OK CheckDir: TissueEnrich.Rcheck Warnings: 0