Package: TissueEnrich Version: 1.26.0 Command: chmod a+r TissueEnrich -R && F:\biocbuild\bbs-3.20-bioc\R\bin\R.exe CMD build --keep-empty-dirs --no-resave-data TissueEnrich StartedAt: 2025-02-03 22:37:18 -0500 (Mon, 03 Feb 2025) EndedAt: 2025-02-03 22:38:19 -0500 (Mon, 03 Feb 2025) EllapsedTime: 60.8 seconds RetCode: 0 Status: OK PackageFile: TissueEnrich_1.26.0.tar.gz PackageFileSize: 3.338 MiB