Package: TissueEnrich Version: 1.26.0 Command: /home/biocbuild/R/R/bin/R CMD check --install=check:TissueEnrich.install-out.txt --library=/home/biocbuild/R/R/site-library --no-vignettes --timings TissueEnrich_1.26.0.tar.gz StartedAt: 2025-02-04 11:44:54 -0000 (Tue, 04 Feb 2025) EndedAt: 2025-02-04 11:48:52 -0000 (Tue, 04 Feb 2025) EllapsedTime: 238.3 seconds RetCode: 0 Status: OK CheckDir: TissueEnrich.Rcheck Warnings: 0