Package: TnT Version: 1.28.0 Command: rm -rf TnT.buildbin-libdir && mkdir TnT.buildbin-libdir && /Users/biocbuild/BBS/utils/build-universal.sh TnT_1.28.0.tar.gz /Library/Frameworks/R.framework/Resources/bin/R TnT.buildbin-libdir StartedAt: 2025-02-05 18:08:02 -0500 (Wed, 05 Feb 2025) EndedAt: 2025-02-05 18:08:20 -0500 (Wed, 05 Feb 2025) EllapsedTime: 18.0 seconds RetCode: 0 Status: OK PackageFile: TnT_1.28.0.tgz PackageFileSize: 531.4 KiB