Package: TnT Version: 1.28.0 Command: /Library/Frameworks/R.framework/Resources/bin/R CMD build --keep-empty-dirs --no-resave-data TnT StartedAt: 2025-02-04 09:49:07 -0500 (Tue, 04 Feb 2025) EndedAt: 2025-02-04 09:49:33 -0500 (Tue, 04 Feb 2025) EllapsedTime: 26.2 seconds RetCode: 0 Status: OK PackageFile: TnT_1.28.0.tar.gz PackageFileSize: 230.4 KiB