Package: TnT Version: 1.28.0 Command: /Library/Frameworks/R.framework/Resources/bin/R CMD check --install=check:TnT.install-out.txt --library=/Library/Frameworks/R.framework/Resources/library --no-vignettes --timings TnT_1.28.0.tar.gz StartedAt: 2025-02-04 11:22:27 -0500 (Tue, 04 Feb 2025) EndedAt: 2025-02-04 11:25:49 -0500 (Tue, 04 Feb 2025) EllapsedTime: 202.8 seconds RetCode: 0 Status: OK CheckDir: TnT.Rcheck Warnings: 0