Package: TnT Version: 1.28.0 Command: /home/biocbuild/bbs-3.20-bioc/R/bin/R CMD check --install=check:TnT.install-out.txt --library=/home/biocbuild/bbs-3.20-bioc/R/site-library --timings TnT_1.28.0.tar.gz StartedAt: 2025-02-04 03:15:05 -0500 (Tue, 04 Feb 2025) EndedAt: 2025-02-04 03:16:35 -0500 (Tue, 04 Feb 2025) EllapsedTime: 90.1 seconds RetCode: 0 Status: OK CheckDir: TnT.Rcheck Warnings: 0