Package: TnT Version: 1.28.0 Command: chmod a+r TnT -R && F:\biocbuild\bbs-3.20-bioc\R\bin\R.exe CMD build --keep-empty-dirs --no-resave-data TnT StartedAt: 2025-02-03 22:37:42 -0500 (Mon, 03 Feb 2025) EndedAt: 2025-02-03 22:38:21 -0500 (Mon, 03 Feb 2025) EllapsedTime: 39.5 seconds RetCode: 0 Status: OK PackageFile: TnT_1.28.0.tar.gz PackageFileSize: 230.8 KiB