Package: TnT Version: 1.28.0 Command: F:\biocbuild\bbs-3.20-bioc\R\bin\R.exe CMD check --no-multiarch --install=check:TnT.install-out.txt --library=F:\biocbuild\bbs-3.20-bioc\R\library --no-vignettes --timings TnT_1.28.0.tar.gz StartedAt: 2025-02-04 07:07:12 -0500 (Tue, 04 Feb 2025) EndedAt: 2025-02-04 07:09:14 -0500 (Tue, 04 Feb 2025) EllapsedTime: 122.5 seconds RetCode: 0 Status: OK CheckDir: TnT.Rcheck Warnings: 0