Package: TnT Version: 1.28.0 Command: /home/biocbuild/R/R/bin/R CMD build --keep-empty-dirs --no-resave-data TnT StartedAt: 2025-02-04 03:34:32 -0000 (Tue, 04 Feb 2025) EndedAt: 2025-02-04 03:35:04 -0000 (Tue, 04 Feb 2025) EllapsedTime: 32.1 seconds RetCode: 0 Status: OK PackageFile: TnT_1.28.0.tar.gz PackageFileSize: 273.5 KiB