Package: TnT Version: 1.28.0 Command: /home/biocbuild/R/R/bin/R CMD INSTALL TnT StartedAt: 2025-02-03 20:53:24 -0000 (Mon, 03 Feb 2025) EndedAt: 2025-02-03 20:53:41 -0000 (Mon, 03 Feb 2025) EllapsedTime: 17.0 seconds RetCode: 0 Status: OK