Package: ToxicoGx Version: 2.10.0 Command: /Library/Frameworks/R.framework/Resources/bin/R CMD build --keep-empty-dirs --no-resave-data ToxicoGx StartedAt: 2025-02-04 09:51:36 -0500 (Tue, 04 Feb 2025) EndedAt: 2025-02-04 09:52:42 -0500 (Tue, 04 Feb 2025) EllapsedTime: 65.9 seconds RetCode: 0 Status: OK PackageFile: ToxicoGx_2.10.0.tar.gz PackageFileSize: 3.936 MiB