Package: ToxicoGx Version: 2.10.0 Command: rm -rf ToxicoGx.buildbin-libdir && mkdir ToxicoGx.buildbin-libdir && F:\biocbuild\bbs-3.20-bioc\R\bin\R.exe CMD INSTALL --build --library=ToxicoGx.buildbin-libdir ToxicoGx_2.10.0.tar.gz StartedAt: 2025-02-04 09:41:59 -0500 (Tue, 04 Feb 2025) EndedAt: 2025-02-04 09:43:25 -0500 (Tue, 04 Feb 2025) EllapsedTime: 85.8 seconds RetCode: 0 Status: OK PackageFile: ToxicoGx_2.10.0.zip PackageFileSize: 4.376 MiB