Package: ToxicoGx Version: 2.10.0 Command: chmod a+r ToxicoGx -R && F:\biocbuild\bbs-3.20-bioc\R\bin\R.exe CMD build --keep-empty-dirs --no-resave-data ToxicoGx StartedAt: 2025-02-03 22:38:22 -0500 (Mon, 03 Feb 2025) EndedAt: 2025-02-03 22:39:44 -0500 (Mon, 03 Feb 2025) EllapsedTime: 81.5 seconds RetCode: 0 Status: OK PackageFile: ToxicoGx_2.10.0.tar.gz PackageFileSize: 3.9 MiB