Package: ToxicoGx Version: 2.10.0 Command: /home/biocbuild/R/R/bin/R CMD check --install=check:ToxicoGx.install-out.txt --library=/home/biocbuild/R/R/site-library --no-vignettes --timings ToxicoGx_2.10.0.tar.gz StartedAt: 2025-02-04 11:48:15 -0000 (Tue, 04 Feb 2025) EndedAt: 2025-02-04 11:53:21 -0000 (Tue, 04 Feb 2025) EllapsedTime: 305.4 seconds RetCode: 0 Status: OK CheckDir: ToxicoGx.Rcheck Warnings: 0