Package: TrajectoryUtils Version: 1.14.0 Command: /Library/Frameworks/R.framework/Resources/bin/R CMD build --keep-empty-dirs --no-resave-data TrajectoryUtils StartedAt: 2025-02-11 09:46:39 -0500 (Tue, 11 Feb 2025) EndedAt: 2025-02-11 09:47:21 -0500 (Tue, 11 Feb 2025) EllapsedTime: 42.1 seconds RetCode: 0 Status: OK PackageFile: TrajectoryUtils_1.14.0.tar.gz PackageFileSize: 341.3 KiB