Package: TrajectoryUtils Version: 1.14.0 Command: /Library/Frameworks/R.framework/Resources/bin/R CMD check --install=check:TrajectoryUtils.install-out.txt --library=/Library/Frameworks/R.framework/Resources/library --no-vignettes --timings TrajectoryUtils_1.14.0.tar.gz StartedAt: 2025-02-05 13:12:20 -0500 (Wed, 05 Feb 2025) EndedAt: 2025-02-05 13:15:45 -0500 (Wed, 05 Feb 2025) EllapsedTime: 204.7 seconds RetCode: 0 Status: OK CheckDir: TrajectoryUtils.Rcheck Warnings: 0