Package: TrajectoryUtils Version: 1.14.0 Command: rm -rf TrajectoryUtils.buildbin-libdir && mkdir TrajectoryUtils.buildbin-libdir && /Users/biocbuild/BBS/utils/build-universal.sh TrajectoryUtils_1.14.0.tar.gz /Library/Frameworks/R.framework/Resources/bin/R TrajectoryUtils.buildbin-libdir StartedAt: 2025-01-31 13:52:18 -0500 (Fri, 31 Jan 2025) EndedAt: 2025-01-31 13:53:10 -0500 (Fri, 31 Jan 2025) EllapsedTime: 51.9 seconds RetCode: 0 Status: OK PackageFile: TrajectoryUtils_1.14.0.tgz PackageFileSize: 530.4 KiB