Package: TrajectoryUtils Version: 1.14.0 Command: /Library/Frameworks/R.framework/Resources/bin/R CMD check --install=check:TrajectoryUtils.install-out.txt --library=/Library/Frameworks/R.framework/Resources/library --no-vignettes --timings TrajectoryUtils_1.14.0.tar.gz StartedAt: 2025-02-04 11:26:26 -0500 (Tue, 04 Feb 2025) EndedAt: 2025-02-04 11:32:42 -0500 (Tue, 04 Feb 2025) EllapsedTime: 375.9 seconds RetCode: 0 Status: OK CheckDir: TrajectoryUtils.Rcheck Warnings: 0