Package: TrajectoryUtils Version: 1.14.0 Command: /Library/Frameworks/R.framework/Resources/bin/R CMD INSTALL TrajectoryUtils StartedAt: 2025-02-03 15:27:54 -0500 (Mon, 03 Feb 2025) EndedAt: 2025-02-03 15:28:45 -0500 (Mon, 03 Feb 2025) EllapsedTime: 51.0 seconds RetCode: 0 Status: OK