Package: TrajectoryUtils Version: 1.14.0 Command: /home/biocbuild/bbs-3.20-bioc/R/bin/R CMD INSTALL TrajectoryUtils StartedAt: 2025-02-03 15:22:17 -0500 (Mon, 03 Feb 2025) EndedAt: 2025-02-03 15:22:38 -0500 (Mon, 03 Feb 2025) EllapsedTime: 20.7 seconds RetCode: 0 Status: OK