Package: TrajectoryUtils Version: 1.14.0 Command: F:\biocbuild\bbs-3.20-bioc\R\bin\R.exe CMD INSTALL TrajectoryUtils StartedAt: 2025-02-10 16:04:59 -0500 (Mon, 10 Feb 2025) EndedAt: 2025-02-10 16:05:48 -0500 (Mon, 10 Feb 2025) EllapsedTime: 48.8 seconds RetCode: 0 Status: OK