Package: TrajectoryUtils Version: 1.14.0 Command: /home/biocbuild/R/R/bin/R CMD build --keep-empty-dirs --no-resave-data TrajectoryUtils StartedAt: 2025-02-11 03:10:52 -0000 (Tue, 11 Feb 2025) EndedAt: 2025-02-11 03:11:32 -0000 (Tue, 11 Feb 2025) EllapsedTime: 40.0 seconds RetCode: 0 Status: OK PackageFile: TrajectoryUtils_1.14.0.tar.gz PackageFileSize: 394.4 KiB