Package: TrajectoryUtils Version: 1.14.0 Command: /home/biocbuild/R/R/bin/R CMD INSTALL TrajectoryUtils StartedAt: 2025-02-03 20:32:58 -0000 (Mon, 03 Feb 2025) EndedAt: 2025-02-03 20:33:26 -0000 (Mon, 03 Feb 2025) EllapsedTime: 28.7 seconds RetCode: 0 Status: OK