Package: TransView Version: 1.50.1 Command: rm -rf TransView.buildbin-libdir && mkdir TransView.buildbin-libdir && /Users/biocbuild/BBS/utils/build-universal.sh TransView_1.50.1.tar.gz /Library/Frameworks/R.framework/Resources/bin/R TransView.buildbin-libdir StartedAt: 2025-02-01 17:14:46 -0500 (Sat, 01 Feb 2025) EndedAt: 2025-02-01 17:15:10 -0500 (Sat, 01 Feb 2025) EllapsedTime: 23.7 seconds RetCode: 0 Status: OK PackageFile: TransView_1.50.1.tgz PackageFileSize: 2.031 MiB