Package: TransView Version: 1.50.1 Command: /Library/Frameworks/R.framework/Resources/bin/R CMD INSTALL TransView StartedAt: 2025-01-30 15:29:54 -0500 (Thu, 30 Jan 2025) EndedAt: 2025-01-30 15:30:12 -0500 (Thu, 30 Jan 2025) EllapsedTime: 17.6 seconds RetCode: 0 Status: OK