Package: TransView Version: 1.50.1 Command: rm -rf TransView.buildbin-libdir && mkdir TransView.buildbin-libdir && /Users/biocbuild/BBS/utils/build-universal.sh TransView_1.50.1.tar.gz /Library/Frameworks/R.framework/Resources/bin/R TransView.buildbin-libdir StartedAt: 2025-01-31 13:52:42 -0500 (Fri, 31 Jan 2025) EndedAt: 2025-01-31 13:53:24 -0500 (Fri, 31 Jan 2025) EllapsedTime: 41.5 seconds RetCode: 0 Status: OK PackageFile: TransView_1.50.1.tgz PackageFileSize: 2.131 MiB